BEGIN:VCALENDAR
VERSION:2.0
PRODID:-//Sirkhairulumam.com - ECPv6.15.12.2//NONSGML v1.0//EN
CALSCALE:GREGORIAN
METHOD:PUBLISH
X-WR-CALNAME:Sirkhairulumam.com
X-ORIGINAL-URL:https://www.sirkhairulumam.com
X-WR-CALDESC:Events for Sirkhairulumam.com
REFRESH-INTERVAL;VALUE=DURATION:PT1H
X-Robots-Tag:noindex
X-PUBLISHED-TTL:PT1H
BEGIN:VTIMEZONE
TZID:Asia/Makassar
BEGIN:STANDARD
TZOFFSETFROM:+0800
TZOFFSETTO:+0800
TZNAME:WITA
DTSTART:20240101T000000
END:STANDARD
END:VTIMEZONE
BEGIN:VEVENT
DTSTART;TZID=Asia/Makassar:20251120T140000
DTEND;TZID=Asia/Makassar:20251120T153000
DTSTAMP:20260419T202131
CREATED:20251119T205821Z
LAST-MODIFIED:20260109T084925Z
UID:1856-1763647200-1763652600@www.sirkhairulumam.com
SUMMARY:Kelas Literasi Digital: “Cakap Digital\, Cerdas Bermedia”
DESCRIPTION:Teknologi sudah jadi bagian dari keseharian kita — tapi\, apakah kita sudah benar-benar cerdas bermedia? \nDi era banjir informasi dan kecerdasan buatan yang makin cepat berkembang\, kemampuan literasi digital jadi kunci utama agar kita tetap aman\, produktif\, dan bertanggung jawab di dunia maya. ✨ \nYuk\, ikuti sesi pelatihan Pandu Literasi Digital – Komdigi RI bertema:“Cakap Digital\, Cerdas Bermedia” \nBersama:Khairul Umam\, S.T.\, M.T.Pandu Literasi Digital – Kementerian Komunikasi dan Digital RI \nKamis\, 20 November 202513.00 – 14.30 WIBZoom Meeting: https://s.komdigi.go.id/zoompandumu4Registrasi: http://s.komdigi.go.id/pandumu041 \nBersertifikat Resmi BPSDM Komdigi – 2 JPGratis & Terbuka untuk Umum! \nMari belajar bareng supaya kita makin cakap digital\, tahu cara memanfaatkan teknologi dengan bijak\, dan bisa jadi bagian dari ekosistem digital yang positif dan inklusif \n#CakapDigital #CerdasBermedia #PanduLiterasiDigital #MakinCakapDigital #KomdigiRI #LiterasiDigital #RuangDigitalPositif
URL:https://www.sirkhairulumam.com/event/kelas-literasi-digital-cakap-digital-cerdas-bermedia/
LOCATION:Online Event
CATEGORIES:Digital Literacy
ATTACH;FMTTYPE=image/jpeg:https://www.sirkhairulumam.com/wp-content/uploads/2025/11/Flyer-Khairul-Umam-1-Komdigi-Digitalent.jpg
END:VEVENT
END:VCALENDAR