BEGIN:VCALENDAR
VERSION:2.0
PRODID:-//Sirkhairulumam.com - ECPv6.15.12.2//NONSGML v1.0//EN
CALSCALE:GREGORIAN
METHOD:PUBLISH
X-ORIGINAL-URL:https://www.sirkhairulumam.com
X-WR-CALDESC:Events for Sirkhairulumam.com
REFRESH-INTERVAL;VALUE=DURATION:PT1H
X-Robots-Tag:noindex
X-PUBLISHED-TTL:PT1H
BEGIN:VTIMEZONE
TZID:Asia/Makassar
BEGIN:STANDARD
TZOFFSETFROM:+0800
TZOFFSETTO:+0800
TZNAME:WITA
DTSTART:20240101T000000
END:STANDARD
END:VTIMEZONE
BEGIN:VEVENT
DTSTART;TZID=Asia/Makassar:20251110T160000
DTEND;TZID=Asia/Makassar:20251110T183000
DTSTAMP:20260421T225811
CREATED:20251109T203607Z
LAST-MODIFIED:20260109T085227Z
UID:1844-1762790400-1762799400@www.sirkhairulumam.com
SUMMARY:Level Up Your Campus Life with Universitas Ciputra 2025
DESCRIPTION:✨ Level Up Your Campus Life!Merancang langkah strategis seperti Ki Hajar Dewantara untuk prestasi dan pengalaman mahasiswa \nDalam era akademik yang penuh tantangan\, mahasiswa nggak cukup hanya pintar — tapi juga harus strategic!Yuk\, pelajari bagaimana berpikir strategis bisa bantu kamu mengelola waktu\, menentukan prioritas\, dan mengembangkan potensi diri secara maksimal \nSeminar Inspiratif MahasiswaTema: “Merancang Langkah Seperti Ki Hajar Dewantara: Strategic Thinking untuk Prestasi dan Pengalaman Mahasiswa” \nNarasumber:Khairul Umam\, S.T.\, M.T.(Akademisi & Digital Transformation Strategist) \nSenin\, 10 November 202516.00 – 18.40 WITAAuditorium Universitas Ciputra Makassar \nApa yang akan kamu pelajari:✨ Cara membangun mindset strategic thinking di dunia kampus✨ Menyusun academic roadmap pribadi✨ Strategi mengelola waktu\, organisasi\, dan prestasi✨ Refleksi diri & perencanaan karier jangka panjang \n“Berpikir strategis bukan soal cepat\, tapi soal tepat.” \nYuk hadir\, belajar\, dan mulai rancang langkah strategismu menuju kesuksesan! \n#StrategicThinking #LevelUpCampusLife #MahasiswaCerdas #UniversitasCiputraMakassar #SeminarInspiratif #MahasiswaBerprestasi #KiHajarDewantara #MindsetMahasiswa #CampusGrowth
URL:https://www.sirkhairulumam.com/event/level-up-your-campus-life-with-universitas-ciputra-2025/
LOCATION:Auditorium Universitas Ciputra\, Kawasan CitraLand City CPI\, Jalan Sunset Boulevard\, Kota Makassar\, Sulawesi Selatan 90224\, Makassar\, Sulawesi Selatan\, 90224\, Indonesia
CATEGORIES:Self Development
ATTACH;FMTTYPE=image/jpeg:https://www.sirkhairulumam.com/wp-content/uploads/2025/11/WhatsApp-Image-2025-11-13-at-15.31.51.jpeg
ORGANIZER;CN="Universitas Ciputra":MAILTO:infocsb@ciputramakassar.ac.id
END:VEVENT
END:VCALENDAR