BEGIN:VCALENDAR
VERSION:2.0
PRODID:-//Sirkhairulumam.com - ECPv6.15.12.2//NONSGML v1.0//EN
CALSCALE:GREGORIAN
METHOD:PUBLISH
X-ORIGINAL-URL:https://www.sirkhairulumam.com
X-WR-CALDESC:Events for Sirkhairulumam.com
REFRESH-INTERVAL;VALUE=DURATION:PT1H
X-Robots-Tag:noindex
X-PUBLISHED-TTL:PT1H
BEGIN:VTIMEZONE
TZID:Asia/Makassar
BEGIN:STANDARD
TZOFFSETFROM:+0800
TZOFFSETTO:+0800
TZNAME:WITA
DTSTART:20250101T000000
END:STANDARD
END:VTIMEZONE
BEGIN:VEVENT
DTSTART;TZID=Asia/Makassar:20260107T160000
DTEND;TZID=Asia/Makassar:20260107T170000
DTSTAMP:20260420T224639
CREATED:20260107T070000Z
LAST-MODIFIED:20260109T084802Z
UID:1990-1767801600-1767805200@www.sirkhairulumam.com
SUMMARY:PARAIKATTE TVRI Sulsel: Wirausaha Muda dalam Dinamika Ekonomi Daerah
DESCRIPTION:Bagaimana peran wirausaha muda dalam menggerakkan ekonomi daerah?Apa kontribusi inkubator bisnis dan perspektif akademik dalam mendorong pertumbuhan UMKM di Sulawesi Selatan? \nSemua akan dibahas dalam talk show PARAIKATTE dengan tema:🎙 “Wirausaha Muda dalam Dinamika Ekonomi Daerah” \nDiskusi ini menghadirkan narasumber dari sisi praktik dan akademik untuk membedah tantangan\, peluang\, serta peran strategis wirausaha muda dalam ekosistem ekonomi lokal. \n👤 Narasumber:• Khairul Umam\, S.T.\, M.T. – Manager Inkubator UMKM Makassar• Abdul Muttalib\, S.E.\, M.M. – Pengamat Ekonomi Unismuh Makassar \n🎤 Host: Inggrid Herman \n🗓 Rabu\, 7 Januari 2026🕓 Pukul 16.00 WITA📡 Live di TVRI Sulawesi Selatan \nSaksikan dan dapatkan insight langsung tentang masa depan ekonomi daerah yang digerakkan oleh generasi muda! ✨ \n#PARAIKATTE#TVRISulsel#WirausahaMuda#EkonomiDaerah#UMKMSulsel#InkubatorUMKM#PemudaBerdaya#EkonomiSulawesiSelatan#TalkshowTVRI#Makassar
URL:https://www.sirkhairulumam.com/event/paraikatte-tvri-sulsel-wirausaha-muda-dalam-dinamika-ekonomi-daerah/
LOCATION:TVRI Sulawesi Selatan\, Jl. Pajonga Dg. Ngalle No.14\, Mario\, Kec. Mariso\, Kota Makassar\, Sulawesi Selatan 90122\, Makassar\, Sulawesi Selatan\, 90122\, Indonesia
CATEGORIES:Business Talk
ATTACH;FMTTYPE=image/jpeg:https://www.sirkhairulumam.com/wp-content/uploads/2026/01/WhatsApp-Image-2026-01-06-at-15.50.27.jpeg
END:VEVENT
END:VCALENDAR