BEGIN:VCALENDAR
VERSION:2.0
PRODID:-//Sirkhairulumam.com - ECPv6.15.12.2//NONSGML v1.0//EN
CALSCALE:GREGORIAN
METHOD:PUBLISH
X-ORIGINAL-URL:https://www.sirkhairulumam.com
X-WR-CALDESC:Events for Sirkhairulumam.com
REFRESH-INTERVAL;VALUE=DURATION:PT1H
X-Robots-Tag:noindex
X-PUBLISHED-TTL:PT1H
BEGIN:VTIMEZONE
TZID:Asia/Makassar
BEGIN:STANDARD
TZOFFSETFROM:+0800
TZOFFSETTO:+0800
TZNAME:WITA
DTSTART:20240101T000000
END:STANDARD
END:VTIMEZONE
BEGIN:VEVENT
DTSTART;TZID=Asia/Makassar:20251122T110000
DTEND;TZID=Asia/Makassar:20251122T130000
DTSTAMP:20260421T015350
CREATED:20251122T110501Z
LAST-MODIFIED:20260109T084845Z
UID:1918-1763809200-1763816400@www.sirkhairulumam.com
SUMMARY:Pelatihan Inovasi dan Daya Tarik Wirausaha – Politeknik Industri Petrokimia Banten
DESCRIPTION:Pelatihan Inovasi & Daya Tarik WirausahaPoliteknik Industri Petrokimia Banten kembali menghadirkan sesi pelatihan untuk memperkuat kompetensi kewirausahaan mahasiswa dan tenant Inkubator Bisnis! \nDalam kegiatan ini\, peserta akan belajar bagaimana membangun usaha yang inovatif\, menarik\, dan siap bersaing di pasar. \nTopik yang Akan Dibahas:• Inovasi Bisnis• Daya Tarik Usaha• Peluang Pasar• Sikap & Mindset Wirausaha \nSabtu\, 22 November 202510.00 – 12.00 WIBOnline (Undangan Khusus) \nPelatihan ini dirancang untuk membantu calon wirausaha memahami strategi praktis dalam menciptakan nilai\, mengenali peluang\, dan membangun bisnis yang berkelanjutan. \nMari tingkatkan kompetensi kewirausahaan demi lahirnya inovator dan pelaku usaha baru yang lebih siap bersaing! \n#InovasiBisnis #WirausahaMuda #InkubatorBisnis #PelatihanWirausaha #PoliteknikPetrokimiaBanten #EntrepreneurshipTraining #PeluangUsaha #StartupIndonesia #MahasiswaWirausaha #DigitalEntrepreneurship
URL:https://www.sirkhairulumam.com/event/pelatihan-inovasi-dan-daya-tarik-wirausaha-politeknik-industri-petrokimia-banten/
LOCATION:Online Event
CATEGORIES:Business Talk
ATTACH;FMTTYPE=image/jpeg:https://www.sirkhairulumam.com/wp-content/uploads/2025/11/WhatsApp-Image-2025-11-18-at-17.16.52.jpeg
ORGANIZER;CN="Politeknik Petrokimia Banten":MAILTO:humas@poltek-petrokimia.ac.id
END:VEVENT
END:VCALENDAR