BEGIN:VCALENDAR
VERSION:2.0
PRODID:-//Sirkhairulumam.com - ECPv6.15.12.2//NONSGML v1.0//EN
CALSCALE:GREGORIAN
METHOD:PUBLISH
X-WR-CALNAME:Sirkhairulumam.com
X-ORIGINAL-URL:https://www.sirkhairulumam.com
X-WR-CALDESC:Events for Sirkhairulumam.com
REFRESH-INTERVAL;VALUE=DURATION:PT1H
X-Robots-Tag:noindex
X-PUBLISHED-TTL:PT1H
BEGIN:VTIMEZONE
TZID:Asia/Makassar
BEGIN:STANDARD
TZOFFSETFROM:+0800
TZOFFSETTO:+0800
TZNAME:WITA
DTSTART:20240101T000000
END:STANDARD
END:VTIMEZONE
BEGIN:VEVENT
DTSTART;TZID=Asia/Makassar:20251114T090000
DTEND;TZID=Asia/Makassar:20251114T120000
DTSTAMP:20260421T014947
CREATED:20251113T204916Z
LAST-MODIFIED:20251113T204916Z
UID:1852-1763110800-1763121600@www.sirkhairulumam.com
SUMMARY:SEMI (Scale & Empower MSME Inclusively) with British Council 2025
DESCRIPTION:✨ Scale and Empower MSME Inclusively ✨“Your Connection for Disability Inclusion” \nKonekin melalui program SEMI (Scale & Empower MSME Inclusively) mengadakan kegiatan Pelatihan UMKM Inklusif: Mindset Berkelas\, Produk Berkualitas — inisiatif yang bertujuan memperkuat kapasitas UMKM penyandang disabilitas\, orang tua dengan anak disabilitas\, dan ibu tunggal di seluruh Indonesia  \nDalam kegiatan ini\, para peserta akan mendapatkan pelatihan intensif mengenai: Pondasi Bisnis Berkelanjutan — mulai dari pemisahan keuangan pribadi dan usaha\, pembukuan sederhana\, hingga legalitas usaha bersama Khairul Umam. UMKM Naik Kelas Lewat Digital — strategi pemasaran dan pemanfaatan AI untuk memperkuat bisnis digital. Inovasi Program Pinjaman untuk UMKM — memahami akses pembiayaan inklusif dan strategi pengajuan pinjaman. \n Makassar Creative Hub\, Maloku\, Kota Makassar️ Jumat\, 14 November 2025 08.30 – 17.10 WITA \nKegiatan ini merupakan kolaborasi antara Marthella Sirait dan KONEKIN\, didukung oleh British Council melalui Social Action Grants. \nBersama\, kita wujudkan ekosistem UMKM yang lebih inklusif\, berdaya\, dan berkelanjutan.  \n#UMKMInklusif #Konekin #ScaleEmpowerMSME #DisabilityInclusion #UMKMBerdaya #BisnisInklusif #BritishCouncil #PelatihanUMKM #MindsetBerkelasProdukBerkualitas #MakassarCreativeHub
URL:https://www.sirkhairulumam.com/event/semi-scale-empower-msme-inclusively-with-british-council-2025/
LOCATION:Makassar Creative Hub\, Maloku\, Ujung Pandang\, Makassar City\, South Sulawesi 90111\, Makassar\, Sulawesi Selatan\, 90111\, Indonesia
CATEGORIES:Business Talk,Social Enterprise
ATTACH;FMTTYPE=image/png:https://www.sirkhairulumam.com/wp-content/uploads/2025/11/SEMI-goes-to-Makassar.png
ORGANIZER;CN="KONEKIN":MAILTO:inklusif@konekin.co.id
END:VEVENT
END:VCALENDAR