BEGIN:VCALENDAR
VERSION:2.0
PRODID:-//Sirkhairulumam.com - ECPv6.15.12.2//NONSGML v1.0//EN
CALSCALE:GREGORIAN
METHOD:PUBLISH
X-WR-CALNAME:Sirkhairulumam.com
X-ORIGINAL-URL:https://www.sirkhairulumam.com
X-WR-CALDESC:Events for Sirkhairulumam.com
REFRESH-INTERVAL;VALUE=DURATION:PT1H
X-Robots-Tag:noindex
X-PUBLISHED-TTL:PT1H
BEGIN:VTIMEZONE
TZID:Asia/Makassar
BEGIN:STANDARD
TZOFFSETFROM:+0800
TZOFFSETTO:+0800
TZNAME:WITA
DTSTART:20240101T000000
END:STANDARD
END:VTIMEZONE
BEGIN:VEVENT
DTSTART;TZID=Asia/Makassar:20251028T080000
DTEND;TZID=Asia/Makassar:20251031T170000
DTSTAMP:20260421T014802
CREATED:20251028T085943Z
LAST-MODIFIED:20260109T085317Z
UID:1738-1761638400-1761930000@www.sirkhairulumam.com
SUMMARY:Bootcamp IV Inkubator Bisnis BDI Tahun 2025
DESCRIPTION:BOOTCAMP IV INKUBATOR BISNIS BDI MAKASSAR TAHUN 2025 \nPelaksanaan Bootcamp IV Inkubator Bisnis BDI Makassar tahun 2025 siap digelar! \nDengan mengusung tema “Persiapan Business Matching dan Akses Pendanaan Usaha”\, Inkubator Bisnis BDI Makassar kembali hadir untuk mendampingi para wirausaha industri menjadi tenant yang inovatif\, berdaya saing\, dan mempunyai nilai ekonomi. Acara ini akan dilaksanakan selama 4 hari dengan menghadirkan narasumber berpengalaman di bidangnya. \nCatat jadwalnya!\nSelasa-Jumat\, 28-31 Oktober 2025\n08.00 WITA \nInvitation Only — khusus tenant dan alumni Inkubator Bisnis BDI Makassar.\nSiapkan dirimu untuk menerima materi dari narasumber yang berpengalaman !!\nYuk\, jadilah wirausaha yang inovatif dan berdaya saing !!! \n#inkubatorbisnis #bdimakassar #tenant2025 #bpsdmi #kemenperin_ri
URL:https://www.sirkhairulumam.com/event/bootcamp-iv-inkubator-bisnis-bdi-makassar-tahun-2025/
LOCATION:Balai Diklat Industri Makassar\, Jl. Perintis Kemerdekaan No.Km.17\, Pai\, Kec. Biringkanaya\, Kota Makassar\, Sulawesi Selatan 90243\, Makassar\, Sulawesi Selatan\, 90234\, Indonesia
CATEGORIES:Business Talk
ATTACH;FMTTYPE=image/jpeg:https://www.sirkhairulumam.com/wp-content/uploads/2025/11/BOOTCAMP-IV-INKUBATOR-BISNIS-BDI-MAKASSAR-TAHUN-2025.jpg
END:VEVENT
END:VCALENDAR