BEGIN:VCALENDAR
VERSION:2.0
PRODID:-//Sirkhairulumam.com - ECPv6.15.12.2//NONSGML v1.0//EN
CALSCALE:GREGORIAN
METHOD:PUBLISH
X-WR-CALNAME:Sirkhairulumam.com
X-ORIGINAL-URL:https://www.sirkhairulumam.com
X-WR-CALDESC:Events for Sirkhairulumam.com
REFRESH-INTERVAL;VALUE=DURATION:PT1H
X-Robots-Tag:noindex
X-PUBLISHED-TTL:PT1H
BEGIN:VTIMEZONE
TZID:Asia/Makassar
BEGIN:STANDARD
TZOFFSETFROM:+0800
TZOFFSETTO:+0800
TZNAME:WITA
DTSTART:20230101T000000
END:STANDARD
END:VTIMEZONE
BEGIN:VEVENT
DTSTART;TZID=Asia/Makassar:20241208T090000
DTEND;TZID=Asia/Makassar:20241208T120000
DTSTAMP:20260421T184609
CREATED:20250626T050041Z
LAST-MODIFIED:20250626T051212Z
UID:1574-1733648400-1733659200@www.sirkhairulumam.com
SUMMARY:Kegiatan UMKM Go DIgital Talkshow by Hima Bisdig UNM 2024
DESCRIPTION:Talkshow HIMA BISDIG UNM 2024 finally come! \ndi Talkshow HIMA BISDIG UNM 2024 kali ini kita akan membahas bagaimana UMKM bisa menciptakan produk yang unik\, relevan\, dan berdaya saing di pasar global? Temukan jawabannya di sesi Talk Show inspiratif ini dengan speaker expert yang sudah lama bergelut di bidang pengembangan UMKM yaitu Khairul Umam\, S.T.\, M.T.\, selaku CEO Digisaurus yang akan membahas bagaimana UMKM dapat berfikir outside the box di dunia modern ini. \nTema: The Art of Product Innovation: Empowering SMEs to Think Outside the Box \nJangan lewatkan momen ini untuk mendapatkan wawasan baru yang bisa membawa UMKM-mu ke level berikutnya. Saatnya berpikir kreatif dan melampaui batas! \nSave the date dan bersiaplah untuk terinspirasi! \nFollow our instagram to see more information : @himabisdig_unm \nVisit Our Website : http://bisdig.fe.unm.ac.id \n#UMKMGoDigital\n#HIMABISDIGFEBUNM
URL:https://www.sirkhairulumam.com/event/kegiatan-umkm-go-digital-talkshow-by-hima-bisdig-unm-2024/
LOCATION:Rumah Dinas Walikota\, Jl. H.I.A. Saleh Dg. Tompo No.33\, Losari\, Kec. Ujung Pandang\, Kota Makassar\, Sulawesi Selatan 90113\, Makassar\, Sulawesi Selatan\, 90113\, Indonesia
CATEGORIES:Business Talk
ATTACH;FMTTYPE=image/png:https://www.sirkhairulumam.com/wp-content/uploads/2025/06/image_2025-06-26_124746831.png
END:VEVENT
END:VCALENDAR