BEGIN:VCALENDAR
VERSION:2.0
PRODID:-//Sirkhairulumam.com - ECPv6.15.12.2//NONSGML v1.0//EN
CALSCALE:GREGORIAN
METHOD:PUBLISH
X-WR-CALNAME:Sirkhairulumam.com
X-ORIGINAL-URL:https://www.sirkhairulumam.com
X-WR-CALDESC:Events for Sirkhairulumam.com
REFRESH-INTERVAL;VALUE=DURATION:PT1H
X-Robots-Tag:noindex
X-PUBLISHED-TTL:PT1H
BEGIN:VTIMEZONE
TZID:Asia/Makassar
BEGIN:STANDARD
TZOFFSETFROM:+0800
TZOFFSETTO:+0800
TZNAME:WITA
DTSTART:20230101T000000
END:STANDARD
END:VTIMEZONE
BEGIN:VEVENT
DTSTART;TZID=Asia/Makassar:20241017T080000
DTEND;TZID=Asia/Makassar:20241206T170000
DTSTAMP:20260421T201345
CREATED:20250104T040301Z
LAST-MODIFIED:20250626T014442Z
UID:1089-1729152000-1733504400@www.sirkhairulumam.com
SUMMARY:Smartfren Community Program Makassar 2024
DESCRIPTION:✨ UMKM Naik Kelas Bersama Smartfren! ✨ \nKabar baik buat kamu yang punya usaha! @sfcommakassar berkolaborasi dengan @inkubatorumkmmks dan @riri_teh untuk memberdayakan 70 UMKM terpilih secara konsisten dan berkelanjutan. \nGabung yuk untuk dapetin business coaching\, pelatihan bisnis\, modal usaha\, dan pendampingan UMKM Go Digital biar bisnismu makin berkembang! \nKapan dimulai??\nKamis\, 17 Oktober 2024 \nLokasi: Kantor Inkubator UMKM Kota Makassar\nGratis dan Terbatas! Buruan daftar! \n➡️ Pendaftaran melalui Barcode yaa \nIni waktunya buat bawa bisnismu ke level berikutnya! ✨ \nKenalan sama mentor-mentor kece yang bakal hadir di Smartfren Community Program Kota Makassar!\nSiap-siap buat kamu unlock potensi terbaikmu!! \nPara mentor punya segudang pengalaman di bidang teknologi\, digital marketing\, dan juga bisnis buat support UMKM kamu berkembang di dunia digital. Gak cuma belajar teori\, kamu juga bisa dapet insight langsung dari ahlinya\, pendampingan buat hadapin tantangan\, dan pastinya jaringan yang luas buat nambah relasi. \nSaatnya upgrade skill bareng-bareng dan terus berkembang! \nTeman UMKM Naik Kelas\nMakassar Bangkit Ekonomi Maju \n#100PersenUntukIndonesia\n#TemanUMKMNaikKelas\n#TemanUMKMIndonesia\n#UMKMNaikKelas\n#SmartfrenCommunity\n#SFcomMakassar\n#Riri_Teh\n#SobatTeRi
URL:https://www.sirkhairulumam.com/event/smartfren-community-program-makassar-2024/
LOCATION:Online Event
CATEGORIES:Business Talk
ATTACH;FMTTYPE=image/jpeg:https://www.sirkhairulumam.com/wp-content/uploads/2025/01/Snapinsta.app_464968022_560306096596145_5189730978679733463_n_1080.jpg
END:VEVENT
END:VCALENDAR