BEGIN:VCALENDAR
VERSION:2.0
PRODID:-//Sirkhairulumam.com - ECPv6.15.12.2//NONSGML v1.0//EN
CALSCALE:GREGORIAN
METHOD:PUBLISH
X-ORIGINAL-URL:https://www.sirkhairulumam.com
X-WR-CALDESC:Events for Sirkhairulumam.com
REFRESH-INTERVAL;VALUE=DURATION:PT1H
X-Robots-Tag:noindex
X-PUBLISHED-TTL:PT1H
BEGIN:VTIMEZONE
TZID:Asia/Makassar
BEGIN:STANDARD
TZOFFSETFROM:+0800
TZOFFSETTO:+0800
TZNAME:WITA
DTSTART:20230101T000000
END:STANDARD
END:VTIMEZONE
BEGIN:VEVENT
DTSTART;TZID=Asia/Makassar:20240926T143000
DTEND;TZID=Asia/Makassar:20240926T170000
DTSTAMP:20260421T231922
CREATED:20250927T140134Z
LAST-MODIFIED:20250927T140342Z
UID:1693-1727361000-1727370000@www.sirkhairulumam.com
SUMMARY:Indigo Ecosystem Dialogue Makassar 2024
DESCRIPTION:Halo\, Founders dan Business Owner Makassar! \nMau tahu bagaimana memperkuat bisnis lewat relasi dan kolaborasi?Pas banget! Indigo #EcosystemDialogue kali ini hadir dengan tema:✨ “Empowering Business Growth through Strong Networks and Collaborations” \nDi sini kita akan bahas:✅ Strategi memperkuat relasi bisnis✅ Cara meningkatkan kolaborasi lintas sektor✅ Solusi menghadapi tantangan di era digital \nBukan cuma diskusi\, acara ini juga jadi peluang emas buat:StartupUMKMAkademisiKomunitas & pengusahaMedia… untuk memperluas koneksi dan menambah wawasan baru! \nKamis\, 26 September 202414.30 – 17.00 WITAIndigoHub Makassar (Jl. A.P. Pettarani No.13\, Makassar) \nDaftar sekarang: https://s.id/IEDMakassar-26September \nSee you there\, Changemakers Makassar! #IndigoEcosystemDialogue #IndigoHubMakassar #BusinessGrowth #Collaboration
URL:https://www.sirkhairulumam.com/event/indigo-ecosystem-dialogue-makassar-2024/
LOCATION:IndigoHub Makassar\, Jl. A. P. Pettarani No.13\, Sinrijala\, Kec. Panakkukang\, Kota Makassar\, Sulawesi Selatan 90231\, Makassar\, Sulawesi Selatan\, 90231\, Indonesia
CATEGORIES:Business Talk
ATTACH;FMTTYPE=image/webp:https://www.sirkhairulumam.com/wp-content/uploads/2025/09/Indigo-Ecosystem-Dialogue-Makassar-2024-Poster.webp
ORGANIZER;CN="IndigoHub Makassar":MAILTO:https://indigo.id
END:VEVENT
END:VCALENDAR