BEGIN:VCALENDAR
VERSION:2.0
PRODID:-//Sirkhairulumam.com - ECPv6.15.12.2//NONSGML v1.0//EN
CALSCALE:GREGORIAN
METHOD:PUBLISH
X-WR-CALNAME:Sirkhairulumam.com
X-ORIGINAL-URL:https://www.sirkhairulumam.com
X-WR-CALDESC:Events for Sirkhairulumam.com
REFRESH-INTERVAL;VALUE=DURATION:PT1H
X-Robots-Tag:noindex
X-PUBLISHED-TTL:PT1H
BEGIN:VTIMEZONE
TZID:Asia/Makassar
BEGIN:STANDARD
TZOFFSETFROM:+0800
TZOFFSETTO:+0800
TZNAME:WITA
DTSTART:20240101T000000
END:STANDARD
END:VTIMEZONE
BEGIN:VEVENT
DTSTART;TZID=Asia/Makassar:20250907T130000
DTEND;TZID=Asia/Makassar:20250907T150000
DTSTAMP:20260421T031432
CREATED:20250915T084657Z
LAST-MODIFIED:20250915T084742Z
UID:1661-1757250000-1757257200@www.sirkhairulumam.com
SUMMARY:AI4U – AI For Business: Maksimalkan Potensi Bisnis dengan Artificial Intelligence
DESCRIPTION:Halo Digiers\, AI4U is Coming For U! \nArtificial Intelligence kini bukan lagi sekadar jargon teknologi\, tapi sudah hadir nyata membawa perubahan besar dalam cara kita membangun dan mengembangkan bisnis. \nDaftar Melaui Link Ini : https://s.id/Webinar2_AI4U \nUntuk itu\, yuk bergabung dalam AI4U Learning Session dengan tema:\n“AI For Business: Maksimalkan Potensi Bisnis dengan Artificial Intelligence” \nHari     : Minggu\, 07 September 2025\nWaktu : 13.00 – 15.00 WITA\nTempat : Online via Zoom \nDaftar Melaui Link Ini : https://s.id/Webinar2_AI4U \nBenefit yang akan di dapatkan dalam sesi learning session ini:\n1. Pemahaman tentang bagaimana AI bisa meningkatkan efisiensi operasional bisnis\n2. Sertifikat pelatihan resmi AI4U\n3. Studi kasus penerapan AI dalam UMKM dan Startup\n4. Tips memulai transformasi digital berbasis AI untuk pengusaha pemula \nJangan lewatkan kesempatan untuk menambah wawasan dan skill baru dalam memanfaatkan AI untuk bisnis kamu. \n#AI4U #AIForBusiness #ArtificialIntelligence #AIIndonesia #LearningSession #WebinarAI #AITransformation #DigitalBusiness #StartupIndonesia #UMKMNaikKelas #BisnisCerdas #FutureOfBusiness #AIForStartup #AIForUMKM #Digisaurus
URL:https://www.sirkhairulumam.com/event/ai4u-ai-for-business-maksimalkan-potensi-bisnis-dengan-artificial-intelligence/
LOCATION:Online Event
CATEGORIES:Business Talk
ATTACH;FMTTYPE=image/png:https://www.sirkhairulumam.com/wp-content/uploads/2025/09/image_2025-09-15_164113685.png
ORGANIZER;CN="Digisaurus":MAILTO:digisaurus.id@gmail.com
END:VEVENT
BEGIN:VEVENT
DTSTART;TZID=Asia/Makassar:20250923T093000
DTEND;TZID=Asia/Makassar:20250923T230000
DTSTAMP:20260421T031432
CREATED:20250927T132351Z
LAST-MODIFIED:20250927T132351Z
UID:1681-1758619800-1758668400@www.sirkhairulumam.com
SUMMARY:Talkshow Kewirausahaan UKM-K FEST UMI 2025
DESCRIPTION:Day 2 – Talkshow Kewirausahaan Saatnya tingkatkan wawasan bisnis & UMKM kamu bersama praktisi hebat! \n Narasumber Inspiratif: Khairul Umam\, S.T.\, M.T.General Manager Inkubator UMKM Kota Makassar \n NormasitaOJK Provinsi SulSel & SulBar \n Hari/Tanggal: Senin\, 22 September 2025 Lokasi: Auditorium Al-Jibra\, Universitas Muslim Indonesia \n✨ Benefit spesial untuk peserta:✅ Ilmu praktis kewirausahaan✅ Sertifikat resmi✅ Relasi & networking berkualitas \n GRATIS & terbuka untuk umum! \nJangan sampai ketinggalan kesempatan belajar langsung dari ahlinya dan perluas jaringan usahamu! \n Daftar segera & wujudkan bisnis impianmu bersama Inkubator UMKM Makassar!#TalkshowKewirausahaan #InkubatorUMKM #UMKMBangkit #Makassar
URL:https://www.sirkhairulumam.com/event/talkshow-kewirausahaan-ukm-k-fest-umi-2025/
LOCATION:Auditorium Al-Jibra UMI\, Jl. Pampang No.2\, Panaikang\, Kec. Panakkukang\, Kota Makassar\, Sulawesi Selatan 90231\, Makassar\, Sulawesi Selatan\, 90231\, Indonesia
CATEGORIES:Business Talk
ATTACH;FMTTYPE=image/jpeg:https://www.sirkhairulumam.com/wp-content/uploads/2025/09/Talkshow-Kewirausahaan-UKMK-UMI-2025-Khairul-Umam.jpg
END:VEVENT
BEGIN:VEVENT
DTSTART;TZID=Asia/Makassar:20250925T130000
DTEND;TZID=Asia/Makassar:20250925T163000
DTSTAMP:20260421T031432
CREATED:20250927T131227Z
LAST-MODIFIED:20250927T131227Z
UID:1678-1758805200-1758817800@www.sirkhairulumam.com
SUMMARY:Kegiatan Pra-Inkubasi UMKM bersama Anggu Batary 2025
DESCRIPTION:Inkubator UMKM Makassar kembali hadir lewat Kegiatan Pra-Inkubasi yang siap mengasah wawasan bisnis kamu  \n Dengan narasumber inspiratif:✨ Anggu Batary – Influencer MakassarKupas rahasia cuan lewat konten media sosial \n✨ Khairul Umam – Manager Inkubator UMKM MakassarBangun motivasi & mindset wirausaha yang tangguh \n✨ Rini Mulfiani – Bank BNIKupas akses permodalan & peluang finansial bagi UMKM \n Lokasi: Gedung Sipakatau\, Balaikota Lt.2 (Jl. Ahmad Yani No.02) Hari/Tanggal: Kamis\, 25 September 2025 Waktu: 13.00 – selesai \n Diprioritaskan untuk pelaku usaha yang belum bergabung dalam Pra-Inkubasi. \nJangan lewatkan kesempatan emas untuk belajar\, networking\, dan menyiapkan usaha agar makin berkembang.  \n Daftar sekarang & persiapkan diri jadi pelaku usaha tangguh yang siap cuan!#pelatihangratis #InkubatorUMKM #UMKMBangkit #Makassar
URL:https://www.sirkhairulumam.com/event/kegiatan-pra-inkubasi-umkm-bersama-anggu-batary-2025/
LOCATION:Inkubator UMKM Kota Makassar\, Jalan Sultan Hasanuddin\, Taman Macan\, Gedung MGC\, Makassar\, Sulawesi Selatan\, 90171\, Indonesia
CATEGORIES:Business Talk
ATTACH;FMTTYPE=image/webp:https://www.sirkhairulumam.com/wp-content/uploads/2025/09/Inkubator-UMKM-Makassar-kembali-hadir-dengan-kegiatan-Prainkubasi-yang-bakal-bikin-wawasan-bisn.webp
ORGANIZER;CN="Inkubator UMKM Kota Makassar":MAILTO:inkubatorkotamakassar@gmail.com
END:VEVENT
END:VCALENDAR