BEGIN:VCALENDAR
VERSION:2.0
PRODID:-//Sirkhairulumam.com - ECPv6.15.12.2//NONSGML v1.0//EN
CALSCALE:GREGORIAN
METHOD:PUBLISH
X-ORIGINAL-URL:https://www.sirkhairulumam.com
X-WR-CALDESC:Events for Sirkhairulumam.com
REFRESH-INTERVAL;VALUE=DURATION:PT1H
X-Robots-Tag:noindex
X-PUBLISHED-TTL:PT1H
BEGIN:VTIMEZONE
TZID:Asia/Makassar
BEGIN:STANDARD
TZOFFSETFROM:+0800
TZOFFSETTO:+0800
TZNAME:WITA
DTSTART:20240101T000000
END:STANDARD
END:VTIMEZONE
BEGIN:VEVENT
DTSTART;TZID=Asia/Makassar:20250503T080000
DTEND;TZID=Asia/Makassar:20250503T170000
DTSTAMP:20260421T094201
CREATED:20250927T135324Z
LAST-MODIFIED:20250927T135324Z
UID:1690-1746259200-1746291600@www.sirkhairulumam.com
SUMMARY:Digibiz Makassar 2025 by Bisdig UNM
DESCRIPTION:[Calling for Participants] \nReady to level up? ✨Buat kamu yang mau upgrade skill\, dapat insight kece\, dan ketemu orang-orang keren\, saatnya gabung di Digibiz 2025!  \nYuk\, ikuti rangkaian acara seru ini: Workshop bersama Khairul Umam“Cara Memulai Bisnis” – Belajar langsung dari praktisi! \n Talkshow bersama Edward Rhidwan“Merintis Karir dan Memulai Usaha” – Saatnya dapat inspirasi untuk langkah awal karirmu. \n Seminar bersama Taufik Harris Rachmat“Social Digital Marketing” – Ilmu kekinian yang wajib dikuasai\, apalagi buat Gen Z! \n Jangan cuma jadi penonton! Saatnya ambil peran dan bersinar bareng. \n Save the date\, daftar sekarang\, dan jadi bagian dari perubahan! Link Pendaftaran: https://forms.gle/ZftASeVYCuSucqFg8 \n#Digibiz #HimaBisdigFEBUNM #CallingForParticipants #RadicalSmartSipakatau
URL:https://www.sirkhairulumam.com/event/digibiz-makassar-2025-by-bisdig-unm/
LOCATION:Pusat Bahasa UNM\, Jl. Raya Pendidikan Blok B7\, Tidung\, Kec. Rappocini\, Kota Makassar\, Sulawesi Selatan 90222\, Makassar\, Sulawesi Selatan\, 90222\, Indonesia
CATEGORIES:Business Talk
ATTACH;FMTTYPE=image/jpeg:https://www.sirkhairulumam.com/wp-content/uploads/2025/09/Digibiz-Makassar-2025-by-Bisdig-UNM-Poster.jpg
END:VEVENT
BEGIN:VEVENT
DTSTART;TZID=Asia/Makassar:20250520T080000
DTEND;TZID=Asia/Makassar:20250520T123000
DTSTAMP:20260421T094201
CREATED:20250626T044512Z
LAST-MODIFIED:20250626T044658Z
UID:1571-1747728000-1747744200@www.sirkhairulumam.com
SUMMARY:Business Pitching Academy for Women Entrepreneurs (AWE) 2025
DESCRIPTION:Academy for Women Entrepreneurs (AWE) adalah program pelatihan kewirausahaan yang diinisiasi oleh Biro Urusan Pendidikan dan Kebudayaan (ECA)\, Departemen Luar Negeri AS\, pada tahun 2019. Program ini bertujuan untuk memberdayakan perempuan dengan memberikan pengetahuan\, jejaring\, dan akses yang mereka butuhkan untuk membangun bisnis yang sukses. Hingga kini\, AWE telah diimplementasikan di hampir 100 negara dan berhasil memberdayakan lebih dari 25.000 pengusaha perempuan di seluruh dunia. \nTarget Peserta Kegiatan\nKompetisi pitching akan diikuti oleh 22 peserta dari Program AWE Makassar yang telah melalui tahap seleksi\, pelatihan intensif\, dan sesi mentoring. Para peserta merupakan pengusaha perempuan yang telah memiliki bisnis yang sedang berjalan. \nMekanisme Kegiatan\nPeserta dibagi ke dalam dua ruangan\, masing-masing berisi 11 orang. Setiap peserta diberikan waktu 10 menit untuk melakukan pitching:\n• 5 menit presentasi\n• 3 menit feedback dari juri\n• 2 menit transisi peserta berikutnya \nHari\, Tanggal : Selasa\, 20 Mei 2025\nWaktu : 08.00 – 12.30 WITA\nLokasi : Institut Teknologi dan Bisnis Kalla \nAcara ini akan dihadiri oleh Khairul Umam (CEO Digisaurus.id) yang akan bertindak sebagai juri pitching.
URL:https://www.sirkhairulumam.com/event/business-pitching-academy-for-women-entrepreneurs-awe-2025/
LOCATION:Institut Teknologi dan Bisnis Kalla\, Lt 5 & 6 Office Building Nipah Mall\, Jl. Urip Sumoharjo\, Panaikang\, Kec. Panakkukang\, Kota Makassar\, Sulawesi Selatan 90231\, Makassar\, Sulawesi Selatan\, 90231\, Indonesia
CATEGORIES:Business Talk
ATTACH;FMTTYPE=image/png:https://www.sirkhairulumam.com/wp-content/uploads/2025/06/image_2025-06-26_123917596.png
END:VEVENT
BEGIN:VEVENT
DTSTART;TZID=Asia/Makassar:20250522T100000
DTEND;TZID=Asia/Makassar:20250522T230000
DTSTAMP:20260421T094201
CREATED:20250927T134536Z
LAST-MODIFIED:20250927T134536Z
UID:1686-1747908000-1747954800@www.sirkhairulumam.com
SUMMARY:Youth Co:Lab Sub-National Bootcamp 2025
DESCRIPTION:️✨ Meet the Minds Behind the Movement! \nDi balik semangat peserta Youth Co:Lab Sub-National Bootcamp 2025 – South Sulawesi\, hadir sosok luar biasa yang bukan hanya berbagi ilmu\, tapi juga menyalakan api perubahan dengan satu misi: menumbuhkan potensi generasi muda untuk menciptakan dampak nyata. \n✨ Dari praktisi inovasi sosial\, aktivis pemberdayaan komunitas\, hingga penggerak pemuda — mereka hadir bukan untuk menggurui\, tapi untuk berbagi dan bertumbuh bersama. \n Terima kasih atas setiap cerita\, pengalaman\, dan energi yang ditularkan kepada 20 tim muda Sulawesi Selatan. Semoga energi baik ini terus menjalar ke mana pun para changemakers melangkah.  \n Kita memulai sesi pertama GANARA Sipakatau – Youth Co:Lab Bootcamp South Sulawesi 2025 bersama: Khairul Umam — Founder & CEO Digisaurus.id \n Sesi perdana ini menyelaraskan tujuan dengan berbagi insight seputar transformasi digital\, inovasi\, dan strategi bisnis yang bisa bantu usaha sosial naik kelas. \n 22 Mei 2025 10:00 – 11:00 WITA \n✨ Keep Growing With Us!#Ganarasipakatau #YouthCoLab #SocialInnovation #SulawesiSelatan
URL:https://www.sirkhairulumam.com/event/youth-colab-sub-national-bootcamp-2025/
LOCATION:Online Event
CATEGORIES:Business Talk
ATTACH;FMTTYPE=image/jpeg:https://www.sirkhairulumam.com/wp-content/uploads/2025/09/Youth-CoLab-South-Sulawesi-2025-Poster.jpg
END:VEVENT
END:VCALENDAR