BEGIN:VCALENDAR
VERSION:2.0
PRODID:-//Sirkhairulumam.com - ECPv6.15.12.2//NONSGML v1.0//EN
CALSCALE:GREGORIAN
METHOD:PUBLISH
X-WR-CALNAME:Sirkhairulumam.com
X-ORIGINAL-URL:https://www.sirkhairulumam.com
X-WR-CALDESC:Events for Sirkhairulumam.com
REFRESH-INTERVAL;VALUE=DURATION:PT1H
X-Robots-Tag:noindex
X-PUBLISHED-TTL:PT1H
BEGIN:VTIMEZONE
TZID:Asia/Makassar
BEGIN:STANDARD
TZOFFSETFROM:+0800
TZOFFSETTO:+0800
TZNAME:WITA
DTSTART:20220101T000000
END:STANDARD
END:VTIMEZONE
BEGIN:VEVENT
DTSTART;TZID=Asia/Makassar:20231221T150000
DTEND;TZID=Asia/Makassar:20231221T180000
DTSTAMP:20260424T070203
CREATED:20250104T033347Z
LAST-MODIFIED:20250626T014624Z
UID:1068-1703170800-1703181600@www.sirkhairulumam.com
SUMMARY:Elfestivale Makassar : CARUTU “CARITA ARAH TUJUAN 2023
DESCRIPTION:Elfestivale Makassar Proudly Present\nCARUTU “CARITA ARAH TUJUAN” \nPersaingan didunia kerja makin ketat nih untuk para Gen Z. Kamu udah tau belum kalau public speaking sangat dibutuhin didunia kerja? Pengen tau ngga sih gimana cara manajemen bisnis? Atau mau belajar tentang industri kreatif? \nAre you ready to step up and exceed your professional skills? Yuk\, ngobrol masa depan untuk persiapan karir kamu! \n️Talkshow\n@yudhahasta (Public Speaker & Founder Kelas Bebas Bicara)\n@ikomd (Event & Music Enthusiast)\n@sirkhairulumam (Enterpreneur) \n‍♂️Stand Up Comedy\n@standupindo_gowa \nPerformances\n@apotek24jam.music\n@qwartetberkaraoke \n‍Live Kolase\n@akbrsadlie \nLapakan\n@candu_book\n@lifethendie_ \nAnd many more \nSave the date! \nQudeta For You @qudetaforyou\nKamis\, 21 Desember 2023\nStart 15.00 – selesai. \n Free Registration \nContact Person:\nWallis: 0821 8764 5222
URL:https://www.sirkhairulumam.com/event/elfestivale-makassar-carutu-carita-arah-tujuan-2023/
LOCATION:Qudeta Cafe\, Ruko Golden\, 10\, Jl. Perintis Kemerdekaan No.12\, RW.2\, Tamalanrea Jaya\, Tamalanrea\, Makassar City\, South Sulawesi 90245\, Makassar\, Sulawesi Selatan\, 90245\, Indonesia
CATEGORIES:Business Talk
ATTACH;FMTTYPE=image/jpeg:https://www.sirkhairulumam.com/wp-content/uploads/2025/01/Snapinsta.app_412019566_7157214554298993_3633331319269031524_n_1080.jpg
END:VEVENT
END:VCALENDAR